BEGIN:VCALENDAR
VERSION:2.0
PRODID:-//HACE CDC - ECPv5.16.4//NONSGML v1.0//EN
CALSCALE:GREGORIAN
METHOD:PUBLISH
X-WR-CALNAME:HACE CDC
X-ORIGINAL-URL:https://hace.effectivdev.com
X-WR-CALDESC:Events for HACE CDC
BEGIN:VTIMEZONE
TZID:America/New_York
BEGIN:DAYLIGHT
TZOFFSETFROM:-0500
TZOFFSETTO:-0400
TZNAME:EDT
DTSTART:20180311T070000
END:DAYLIGHT
BEGIN:STANDARD
TZOFFSETFROM:-0400
TZOFFSETTO:-0500
TZNAME:EST
DTSTART:20181104T060000
END:STANDARD
END:VTIMEZONE
BEGIN:VEVENT
DTSTART;TZID=America/New_York:20180328T190000
DTEND;TZID=America/New_York:20180328T210000
DTSTAMP:20260423T051959
CREATED:20180306T160501Z
LAST-MODIFIED:20191014T195919Z
UID:2987-1522263600-1522270800@hace.effectivdev.com
SUMMARY:First Time Homebuyer
DESCRIPTION:HACE First Time Homebuyer workshop \nWhen: Wednesday\, March 28th\, 2018 (6:00pm-8:00pm)\nWhere: Villas del Caribe Community Room (167 W. Allegheny Avenue\, Philadelphia\, PA 19140)\nIThis workshop will provide an overview of the home purchasing process for first-time homebuyers. Homebuyers will learn about topics of budgeting\, savings\, and credit.
URL:https://hace.effectivdev.com/event/first-time-homebuyer/
LOCATION:Housing Counseling\, 167 W. Allegheny Avenue\, Philadelphia\, PA\, 19140\, United States
CATEGORIES:Community,Credit
ATTACH;FMTTYPE=image/jpeg:https://hace.effectivdev.com/wp-content/uploads/2018/03/First-Time-Homebuyer-01.jpg
ORGANIZER;CN="Housing%20Counseling":MAILTO:agarayua@hacecdc.org
END:VEVENT
END:VCALENDAR